BEGIN:VCALENDAR
VERSION:2.0
PRODID:-//www.palazzoroberti.it//iCal Event
X-WR-CALNAME:Roberto Pittarello
CALSCALE:GREGORIAN
BEGIN:VTIMEZONE
TZID:Europe/Rome
X-LIC-LOCATION:Europe/Rome
BEGIN:DAYLIGHT
TZOFFSETFROM:+0100
TZOFFSETTO:+0200
TZNAME:CEST
RRULE:FREQ=YEARLY;BYMONTH=3;BYDAY=-1SU
END:DAYLIGHT
BEGIN:STANDARD
TZOFFSETFROM:+0200
TZOFFSETTO:+0100
TZNAME:CET
RRULE:FREQ=YEARLY;BYMONTH=10;BYDAY=-1SU
END:STANDARD
END:VTIMEZONE
BEGIN:VEVENT
DTSTAMP:20141024T173000
UID:05049e90fa4f5039a8cadc6acbb4b2cc@palazzoroberti.it
DTSTART;TZID=Europe/Rome:20141024T173000
DTEND;TZID=Europe/Rome:20141024T183000
SUMMARY:Roberto Pittarello
URL:https://www.palazzoroberti.it/it/eventi/roberto-pittarello-2
DESCRIPTION:Libreria Palazzo Roberti
LOCATION:Libreria Palazzo Roberti
END:VEVENT
END:VCALENDAR