BEGIN:VCALENDAR
VERSION:2.0
PRODID:-//www.palazzoroberti.it//iCal Event
X-WR-CALNAME:Marco Minniti
CALSCALE:GREGORIAN
BEGIN:VTIMEZONE
TZID:Europe/Rome
X-LIC-LOCATION:Europe/Rome
BEGIN:DAYLIGHT
TZOFFSETFROM:+0100
TZOFFSETTO:+0200
TZNAME:CEST
RRULE:FREQ=YEARLY;BYMONTH=3;BYDAY=-1SU
END:DAYLIGHT
BEGIN:STANDARD
TZOFFSETFROM:+0200
TZOFFSETTO:+0100
TZNAME:CET
RRULE:FREQ=YEARLY;BYMONTH=10;BYDAY=-1SU
END:STANDARD
END:VTIMEZONE
BEGIN:VEVENT
DTSTAMP:20190210T170000
UID:c4b31ce7d95c75ca70d50c19aef08bf1@palazzoroberti.it
DTSTART;TZID=Europe/Rome:20190210T170000
DTEND;TZID=Europe/Rome:20190210T180000
SUMMARY:Marco Minniti
URL:https://www.palazzoroberti.it/it/eventi/marco-minniti
DESCRIPTION:Libreria Palazzo Roberti
LOCATION:Libreria Palazzo Roberti
END:VEVENT
END:VCALENDAR